BEGIN:VCALENDAR
VERSION:2.0
PRODID:-//Plateforme Europe - ECPv6.15.11//NONSGML v1.0//EN
CALSCALE:GREGORIAN
METHOD:PUBLISH
X-WR-CALNAME:Plateforme Europe
X-ORIGINAL-URL:https://plateformeeurope.eu
X-WR-CALDESC:Events for Plateforme Europe
REFRESH-INTERVAL;VALUE=DURATION:PT1H
X-Robots-Tag:noindex
X-PUBLISHED-TTL:PT1H
BEGIN:VTIMEZONE
TZID:Europe/Paris
BEGIN:DAYLIGHT
TZOFFSETFROM:+0100
TZOFFSETTO:+0200
TZNAME:CEST
DTSTART:20240331T010000
END:DAYLIGHT
BEGIN:STANDARD
TZOFFSETFROM:+0200
TZOFFSETTO:+0100
TZNAME:CET
DTSTART:20241027T010000
END:STANDARD
BEGIN:DAYLIGHT
TZOFFSETFROM:+0100
TZOFFSETTO:+0200
TZNAME:CEST
DTSTART:20250330T010000
END:DAYLIGHT
BEGIN:STANDARD
TZOFFSETFROM:+0200
TZOFFSETTO:+0100
TZNAME:CET
DTSTART:20251026T010000
END:STANDARD
BEGIN:DAYLIGHT
TZOFFSETFROM:+0100
TZOFFSETTO:+0200
TZNAME:CEST
DTSTART:20260329T010000
END:DAYLIGHT
BEGIN:STANDARD
TZOFFSETFROM:+0200
TZOFFSETTO:+0100
TZNAME:CET
DTSTART:20261025T010000
END:STANDARD
END:VTIMEZONE
BEGIN:VEVENT
DTSTART;TZID=Europe/Paris:20251008T140000
DTEND;TZID=Europe/Paris:20251008T163000
DTSTAMP:20260421T134212
CREATED:20251001T120814Z
LAST-MODIFIED:20251001T120814Z
UID:480-1759932000-1759941000@plateformeeurope.eu
SUMMARY:Mercredi\, l’Europe ! - Europe à l’écran @ Saint-Paul-en-Jarez
DESCRIPTION:On t’attend pour parler de mobilité européenne\, viens découvrir toutes les opportunités de mobilité en Europe ! Comment étudier à l’étranger avec Erasmus+? Comment faire un stage ou vivre une expérience unique avec l’OFAJ ? On répond à toutes tes questions et on échange ensemble sur tes envies et projets européens. \nEnsuite\, l’activité de cette semaine\, Europe à l’écran : \nDepuis plus d’un siècle\, le cinéma nous raconte le monde qui nous entoure de mille façons différentes : parfois avec réalisme\, parfois à travers des interprétations plus personnelles. Aujourd’hui\, dans un univers marqué à la fois par les grandes productions et par les créations amateurs\, l’audiovisuel occupe une place essentielle pour comprendre et interpréter notre société. \nAvec le cycle “Europe à l’écran”\, nous proposons une série de mini-projections autour de thèmes européens. Chaque séance présentera un court-métrage ou une série qui tentent de raconter l’Union européenne. \nChaque projection est accompagnée d’une brève introduction\, mais surtout suivie d’un débat convivial\, afin de discuter ensemble des récits européens et de confronter la vision de l’auteur avec la vôtre. \nCette semaine\, découvre Parlement : une série drôle et piquante qui te plonge dans les coulisses de l’Union européenne ! \nLe cinéma ouvre le débat… et ta voix compte !
URL:https://plateformeeurope.eu/event/mercredi-leurope-europe-a-lecran-saint-paul-en-jarez/
END:VEVENT
END:VCALENDAR