BEGIN:VCALENDAR
VERSION:2.0
PRODID:-//Plateforme Europe - ECPv6.15.11//NONSGML v1.0//EN
CALSCALE:GREGORIAN
METHOD:PUBLISH
X-ORIGINAL-URL:https://plateformeeurope.eu
X-WR-CALDESC:Events for Plateforme Europe
REFRESH-INTERVAL;VALUE=DURATION:PT1H
X-Robots-Tag:noindex
X-PUBLISHED-TTL:PT1H
BEGIN:VTIMEZONE
TZID:Europe/Paris
BEGIN:DAYLIGHT
TZOFFSETFROM:+0100
TZOFFSETTO:+0200
TZNAME:CEST
DTSTART:20240331T010000
END:DAYLIGHT
BEGIN:STANDARD
TZOFFSETFROM:+0200
TZOFFSETTO:+0100
TZNAME:CET
DTSTART:20241027T010000
END:STANDARD
BEGIN:DAYLIGHT
TZOFFSETFROM:+0100
TZOFFSETTO:+0200
TZNAME:CEST
DTSTART:20250330T010000
END:DAYLIGHT
BEGIN:STANDARD
TZOFFSETFROM:+0200
TZOFFSETTO:+0100
TZNAME:CET
DTSTART:20251026T010000
END:STANDARD
BEGIN:DAYLIGHT
TZOFFSETFROM:+0100
TZOFFSETTO:+0200
TZNAME:CEST
DTSTART:20260329T010000
END:DAYLIGHT
BEGIN:STANDARD
TZOFFSETFROM:+0200
TZOFFSETTO:+0100
TZNAME:CET
DTSTART:20261025T010000
END:STANDARD
END:VTIMEZONE
BEGIN:VEVENT
DTSTART;TZID=Europe/Paris:20251011T093000
DTEND;TZID=Europe/Paris:20251011T163000
DTSTAMP:20260421T134329
CREATED:20250911T093917Z
LAST-MODIFIED:20250911T095634Z
UID:400-1760175000-1760200200@plateformeeurope.eu
SUMMARY:Journée de formation des bénévoles @ Saint-Paul-en-Jarez
DESCRIPTION:Vous êtes bénévole à la Plateforme Europe (ou vous allez le devenir) et vous souhaitez donner un coup de main. \nRendez-vous à nos journées de formation des bénévoles pour vous préparer ! \nAu programme : \n\nMatinée consacrée à votre culture générale sur l’Union européenne avec Alain Réguillon\, auteur et conférencier\, pour vous aider à mieux comprendre l’actualité et les institutions en Europe\nPique-nique partagé le midi et l’occasion de se rencontrer\nAprès-midi consacrée aux outils d’animation : découvrez un ou plusieurs des outils de la Plateforme Europe que vous aurez l’occasion d’animer avec nous\n\nPour vous inscrire\, contactez Yoan par email ou sur WhatsApp (06 10 39 02 54)
URL:https://plateformeeurope.eu/event/journee-de-formation-des-benevoles/
LOCATION:Maison de l’Europe et des associations\, 14 route de la Terrasse\, Saint-Paul-en-Jarez\, 42740
CATEGORIES:Maison de l'Europe et des Associations
END:VEVENT
END:VCALENDAR