BEGIN:VCALENDAR
VERSION:2.0
PRODID:-//Plateforme Europe - ECPv6.15.11//NONSGML v1.0//EN
CALSCALE:GREGORIAN
METHOD:PUBLISH
X-ORIGINAL-URL:https://plateformeeurope.eu
X-WR-CALDESC:Events for Plateforme Europe
REFRESH-INTERVAL;VALUE=DURATION:PT1H
X-Robots-Tag:noindex
X-PUBLISHED-TTL:PT1H
BEGIN:VTIMEZONE
TZID:Europe/Paris
BEGIN:DAYLIGHT
TZOFFSETFROM:+0100
TZOFFSETTO:+0200
TZNAME:CEST
DTSTART:20240331T010000
END:DAYLIGHT
BEGIN:STANDARD
TZOFFSETFROM:+0200
TZOFFSETTO:+0100
TZNAME:CET
DTSTART:20241027T010000
END:STANDARD
BEGIN:DAYLIGHT
TZOFFSETFROM:+0100
TZOFFSETTO:+0200
TZNAME:CEST
DTSTART:20250330T010000
END:DAYLIGHT
BEGIN:STANDARD
TZOFFSETFROM:+0200
TZOFFSETTO:+0100
TZNAME:CET
DTSTART:20251026T010000
END:STANDARD
BEGIN:DAYLIGHT
TZOFFSETFROM:+0100
TZOFFSETTO:+0200
TZNAME:CEST
DTSTART:20260329T010000
END:DAYLIGHT
BEGIN:STANDARD
TZOFFSETFROM:+0200
TZOFFSETTO:+0100
TZNAME:CET
DTSTART:20261025T010000
END:STANDARD
END:VTIMEZONE
BEGIN:VEVENT
DTSTART;TZID=Europe/Paris:20251022T140000
DTEND;TZID=Europe/Paris:20251022T163000
DTSTAMP:20260421T134354
CREATED:20251002T092158Z
LAST-MODIFIED:20251002T092158Z
UID:485-1761141600-1761150600@plateformeeurope.eu
SUMMARY:Mercredi\, l’Europe ! - L’Heure européenne @ Saint-Paul-en-Jarez
DESCRIPTION:C’est l’heure de retourner en classe… mais pas besoin de vos livres ! \nL’Union européenne est composée d’un vaste territoire extrêmement diversifié\, habité par des cultures qui\, au fil des siècles\, ont développé des usages et des coutumes différents. L’Europe a énormément à raconter ! \nChaque domaine mérite d’être exploré et approfondi. C’est dans cet esprit que nous avons imaginé L’Heure européenne\, des leçons sur le thème de l’Europe où chaque mois une matière spécifique sera abordée : maths\, histoire-géo\, SVT… \nCette semaine\, leçon de mathématiques : viens explorer les nombres qui racontent l’Union européenne d’une manière étonnante et ludique ! \nChaque cours sera interactif\, et son objectif est de stimuler votre curiosité pour toutes les fascinantes facettes du savoir européen.
URL:https://plateformeeurope.eu/event/mercredi-leurope-lheure-europeenne-saint-paul-en-jarez/
END:VEVENT
END:VCALENDAR