BEGIN:VCALENDAR
VERSION:2.0
PRODID:-//Plateforme Europe - ECPv6.15.11//NONSGML v1.0//EN
CALSCALE:GREGORIAN
METHOD:PUBLISH
X-ORIGINAL-URL:https://plateformeeurope.eu
X-WR-CALDESC:Events for Plateforme Europe
REFRESH-INTERVAL;VALUE=DURATION:PT1H
X-Robots-Tag:noindex
X-PUBLISHED-TTL:PT1H
BEGIN:VTIMEZONE
TZID:Europe/Paris
BEGIN:DAYLIGHT
TZOFFSETFROM:+0100
TZOFFSETTO:+0200
TZNAME:CEST
DTSTART:20240331T010000
END:DAYLIGHT
BEGIN:STANDARD
TZOFFSETFROM:+0200
TZOFFSETTO:+0100
TZNAME:CET
DTSTART:20241027T010000
END:STANDARD
BEGIN:DAYLIGHT
TZOFFSETFROM:+0100
TZOFFSETTO:+0200
TZNAME:CEST
DTSTART:20250330T010000
END:DAYLIGHT
BEGIN:STANDARD
TZOFFSETFROM:+0200
TZOFFSETTO:+0100
TZNAME:CET
DTSTART:20251026T010000
END:STANDARD
BEGIN:DAYLIGHT
TZOFFSETFROM:+0100
TZOFFSETTO:+0200
TZNAME:CEST
DTSTART:20260329T010000
END:DAYLIGHT
BEGIN:STANDARD
TZOFFSETFROM:+0200
TZOFFSETTO:+0100
TZNAME:CET
DTSTART:20261025T010000
END:STANDARD
END:VTIMEZONE
BEGIN:VEVENT
DTSTART;TZID=Europe/Paris:20251114T180000
DTEND;TZID=Europe/Paris:20251114T193000
DTSTAMP:20260421T120534
CREATED:20251017T135803Z
LAST-MODIFIED:20251021T125722Z
UID:505-1763143200-1763148600@plateformeeurope.eu
SUMMARY:Conférence "Briand/Stresemann : auraient-ils pu éviter la guerre ?" @ Saint-Paul-en-Jarez
DESCRIPTION:À l’occasion du centenaire du traité de Locarno\, Alain Réguillon (auteur et conférencier) revient sur l’espoir d’une paix durable porté par Aristide Briand (figure bien connue de la Loire) et Gustav Stresemann (figure historique allemande\, controversée). Leur entente franco-allemande aurait-elle pu changer le cours de l’Histoire ? \nUne conférence organisée par le Comité de Jumelage de Saint-Paul-en-Jarez\, soutenue par le Fonds citoyen franco-allemand et l’URALE \nLa conférence sera suivie d’un temps d’échange autour d’un verre de l’amitié \nInscription par email auprès de la Plateforme Europe ou sur HelloAsso
URL:https://plateformeeurope.eu/event/conference-briand-stresemann-auraient-ils-pu-eviter-la-guerre/
LOCATION:Maison de l’Europe et des associations\, 14 route de la Terrasse\, Saint-Paul-en-Jarez\, 42740
CATEGORIES:Maison de l'Europe et des Associations
END:VEVENT
END:VCALENDAR