BEGIN:VCALENDAR
VERSION:2.0
PRODID:-//Plateforme Europe - ECPv6.15.11//NONSGML v1.0//EN
CALSCALE:GREGORIAN
METHOD:PUBLISH
X-ORIGINAL-URL:https://plateformeeurope.eu
X-WR-CALDESC:Events for Plateforme Europe
REFRESH-INTERVAL;VALUE=DURATION:PT1H
X-Robots-Tag:noindex
X-PUBLISHED-TTL:PT1H
BEGIN:VTIMEZONE
TZID:Europe/Paris
BEGIN:DAYLIGHT
TZOFFSETFROM:+0100
TZOFFSETTO:+0200
TZNAME:CEST
DTSTART:20240331T010000
END:DAYLIGHT
BEGIN:STANDARD
TZOFFSETFROM:+0200
TZOFFSETTO:+0100
TZNAME:CET
DTSTART:20241027T010000
END:STANDARD
BEGIN:DAYLIGHT
TZOFFSETFROM:+0100
TZOFFSETTO:+0200
TZNAME:CEST
DTSTART:20250330T010000
END:DAYLIGHT
BEGIN:STANDARD
TZOFFSETFROM:+0200
TZOFFSETTO:+0100
TZNAME:CET
DTSTART:20251026T010000
END:STANDARD
BEGIN:DAYLIGHT
TZOFFSETFROM:+0100
TZOFFSETTO:+0200
TZNAME:CEST
DTSTART:20260329T010000
END:DAYLIGHT
BEGIN:STANDARD
TZOFFSETFROM:+0200
TZOFFSETTO:+0100
TZNAME:CET
DTSTART:20261025T010000
END:STANDARD
END:VTIMEZONE
BEGIN:VEVENT
DTSTART;TZID=Europe/Paris:20251001T140000
DTEND;TZID=Europe/Paris:20251001T163000
DTSTAMP:20260422T194930
CREATED:20250926T133020Z
LAST-MODIFIED:20250926T141253Z
UID:474-1759327200-1759336200@plateformeeurope.eu
SUMMARY:Mercredi\, l'Europe ! - Défi Europe @ Saint-Paul-en-Jarez
DESCRIPTION:On t’attend pour parler de mobilité européenne\, viens découvrir toutes les opportunités de mobilité en Europe ! Comment étudier à l’étranger avec Erasmus+? Comment faire un stage ou vivre une expérience unique avec l’OFAJ ? On répond à toutes tes questions et on échange ensemble sur tes envies et projets européens. \nEnsuite\, l’activité de cette semaine\, Défi Europe : \nParticiper à nos quiz et jeux sur l’Europe\, c’est l’occasion idéale de découvrir toutes les particularités qui font fonctionner cette grande machine\, mais aussi de voyager à travers les cultures des pays membres : de la gastronomie aux traditions\, de la géographie aux monuments\, du sport à l’art. \nCette semaine\, avec Eureisen\, pars à la découverte de l’Allemagne ! À travers le jeu\, explore des anecdotes et des curiosités sur ce pays et son lien avec la monnaie euro \nRelève le défi et enrichis ton bagage culturel européen !
URL:https://plateformeeurope.eu/event/mercredi-leurope-defi-europe/
LOCATION:Maison de l’Europe et des associations\, 14 route de la Terrasse\, Saint-Paul-en-Jarez\, 42740
CATEGORIES:Maison de l'Europe et des Associations
END:VEVENT
BEGIN:VEVENT
DTSTART;TZID=Europe/Paris:20251011T093000
DTEND;TZID=Europe/Paris:20251011T163000
DTSTAMP:20260422T194930
CREATED:20250911T093917Z
LAST-MODIFIED:20250911T095634Z
UID:400-1760175000-1760200200@plateformeeurope.eu
SUMMARY:Journée de formation des bénévoles @ Saint-Paul-en-Jarez
DESCRIPTION:Vous êtes bénévole à la Plateforme Europe (ou vous allez le devenir) et vous souhaitez donner un coup de main. \nRendez-vous à nos journées de formation des bénévoles pour vous préparer ! \nAu programme : \n\nMatinée consacrée à votre culture générale sur l’Union européenne avec Alain Réguillon\, auteur et conférencier\, pour vous aider à mieux comprendre l’actualité et les institutions en Europe\nPique-nique partagé le midi et l’occasion de se rencontrer\nAprès-midi consacrée aux outils d’animation : découvrez un ou plusieurs des outils de la Plateforme Europe que vous aurez l’occasion d’animer avec nous\n\nPour vous inscrire\, contactez Yoan par email ou sur WhatsApp (06 10 39 02 54)
URL:https://plateformeeurope.eu/event/journee-de-formation-des-benevoles/
LOCATION:Maison de l’Europe et des associations\, 14 route de la Terrasse\, Saint-Paul-en-Jarez\, 42740
CATEGORIES:Maison de l'Europe et des Associations
END:VEVENT
BEGIN:VEVENT
DTSTART;TZID=Europe/Paris:20251029T140000
DTEND;TZID=Europe/Paris:20251029T163000
DTSTAMP:20260422T194930
CREATED:20251022T093019Z
LAST-MODIFIED:20251022T093019Z
UID:520-1761746400-1761755400@plateformeeurope.eu
SUMMARY:Mercredi\, l’Europe ! @ Saint-Paul-en-Jarez
DESCRIPTION:Nous sommes ravi·e·s de vous présenter notre programme « Mercredi\, l’Europe ! »\, un rendez-vous hebdomadaire pour découvrir l’Union européenne et toutes ses curiosités !\n\nChaque mercredi\, de 14h à 15h30\, on t’attend pour parler de mobilité européenne\, viens découvrir toutes les opportunités de mobilité en Europe ! Comment étudier à l’étranger avec Erasmus+? Comment faire un stage ou vivre une expérience unique avec l’OFAJ ? On répond à toutes tes questions et on échange ensemble sur tes envies et projets européens.\n\nEnsuite\, de 15h30 à 16h30\, la Plateforme vous propose différentes activités pour échanger ensemble sur les grands thèmes européens.\n\nOn vous attend nombreux·ses pour débuter ensemble ce voyage européen !
URL:https://plateformeeurope.eu/event/mercredi-leurope-saint-paul-en-jarez/
CATEGORIES:Maison de l'Europe et des Associations
END:VEVENT
END:VCALENDAR